BEGIN:VCALENDAR
VERSION:2.0
PRODID:-//hacksw/handcal//NONSGML v1.0//EN
BEGIN:VEVENT
SUMMARY:FINALE CHAMPIONNAT DEPARTEMENTAL AS
UID:b6c55b74-0e2f-4ae1-9401-0f45f7c81392
DTSTART:20260425T120000Z
DTEND:20260425T220000Z
LOCATION:Localisation   
CATEGORIES:Sportif
STATUS:
URL;VALUE=URI:https://www.ententeboulistebiterroise.fr/evenements/2026/04/25/finale-championnat-departemental-as-2444031
END:VEVENT
END:VCALENDAR
